BEGIN:VCALENDAR
VERSION:2.0
PRODID:-//USTA Kansas District - ECPv6.15.18//NONSGML v1.0//EN
CALSCALE:GREGORIAN
METHOD:PUBLISH
X-ORIGINAL-URL:https://ustakansasdistrict.com
X-WR-CALDESC:Events for USTA Kansas District
REFRESH-INTERVAL;VALUE=DURATION:PT1H
X-Robots-Tag:noindex
X-PUBLISHED-TTL:PT1H
BEGIN:VTIMEZONE
TZID:UTC
BEGIN:STANDARD
TZOFFSETFROM:+0000
TZOFFSETTO:+0000
TZNAME:UTC
DTSTART:20250101T000000
END:STANDARD
END:VTIMEZONE
BEGIN:VEVENT
DTSTART;VALUE=DATE:20260425
DTEND;VALUE=DATE:20260428
DTSTAMP:20260425T221054
CREATED:20260402T174701Z
LAST-MODIFIED:20260402T174701Z
UID:10000078-1777075200-1777334399@ustakansasdistrict.com
SUMMARY:USTA L5 BG12-14 Open
DESCRIPTION:
URL:https://ustakansasdistrict.com/event/usta-l5-bg12-14-open/
LOCATION:Kossover Tennis Center\, 2540 SW Gage Blvd\, Topeka\, KS\, 66614\, United States
CATEGORIES:Tournaments
ORGANIZER;CN="Ryan Hickman":MAILTO:rjhickman25@gmail.com
END:VEVENT
BEGIN:VEVENT
DTSTART;VALUE=DATE:20260502
DTEND;VALUE=DATE:20260505
DTSTAMP:20260425T221054
CREATED:20260402T175012Z
LAST-MODIFIED:20260402T175012Z
UID:10000079-1777680000-1777939199@ustakansasdistrict.com
SUMMARY:USTA L3 BG16 Open
DESCRIPTION:
URL:https://ustakansasdistrict.com/event/usta-l3-bg16-open/
LOCATION:Kossover Tennis Center\, 2540 SW Gage Blvd\, Topeka\, KS\, 66614\, United States
CATEGORIES:Tournaments
ORGANIZER;CN="Ryan Hickman":MAILTO:rjhickman25@gmail.com
END:VEVENT
BEGIN:VEVENT
DTSTART;VALUE=DATE:20260523
DTEND;VALUE=DATE:20260526
DTSTAMP:20260425T221054
CREATED:20260402T184421Z
LAST-MODIFIED:20260402T184421Z
UID:10000084-1779494400-1779753599@ustakansasdistrict.com
SUMMARY:USTA L5 MV BG16-18
DESCRIPTION:
URL:https://ustakansasdistrict.com/event/usta-l5-mv-bg16-18/
LOCATION:Kossover Tennis Center\, 2540 SW Gage Blvd\, Topeka\, KS\, 66614\, United States
CATEGORIES:Tournaments
ORGANIZER;CN="Ryan Hickman":MAILTO:rjhickman25@gmail.com
END:VEVENT
BEGIN:VEVENT
DTSTART;VALUE=DATE:20260905
DTEND;VALUE=DATE:20260908
DTSTAMP:20260425T221054
CREATED:20260402T214509Z
LAST-MODIFIED:20260402T214509Z
UID:10000099-1788566400-1788825599@ustakansasdistrict.com
SUMMARY:USTA L3 The Valley Team Cup Championship BG16-18 Closed
DESCRIPTION:
URL:https://ustakansasdistrict.com/event/usta-l3-the-valley-team-cup-championship-bg16-18-closed/
LOCATION:Kossover Tennis Center\, 2540 SW Gage Blvd\, Topeka\, KS\, 66614\, United States
CATEGORIES:Tournaments
ORGANIZER;CN="Ryan Hickman":MAILTO:rjhickman25@gmail.com
END:VEVENT
END:VCALENDAR