BEGIN:VCALENDAR
VERSION:2.0
PRODID:-//USTA Kansas District - ECPv6.15.18//NONSGML v1.0//EN
CALSCALE:GREGORIAN
METHOD:PUBLISH
X-WR-CALNAME:USTA Kansas District
X-ORIGINAL-URL:https://ustakansasdistrict.com
X-WR-CALDESC:Events for USTA Kansas District
REFRESH-INTERVAL;VALUE=DURATION:PT1H
X-Robots-Tag:noindex
X-PUBLISHED-TTL:PT1H
BEGIN:VTIMEZONE
TZID:UTC
BEGIN:STANDARD
TZOFFSETFROM:+0000
TZOFFSETTO:+0000
TZNAME:UTC
DTSTART:20250101T000000
END:STANDARD
END:VTIMEZONE
BEGIN:VEVENT
DTSTART;VALUE=DATE:20260523
DTEND;VALUE=DATE:20260524
DTSTAMP:20260425T222543
CREATED:20260402T180221Z
LAST-MODIFIED:20260402T180221Z
UID:10000081-1779494400-1779580799@ustakansasdistrict.com
SUMMARY:USTA L7 BG12-18
DESCRIPTION:
URL:https://ustakansasdistrict.com/event/usta-l7-bg12-18-4/
LOCATION:Crestview Country Club\, 1000 N 127th St E\, Wichita\, 67206-2824\, United States
CATEGORIES:Tournaments
ORGANIZER;CN="Regis Fox":MAILTO:rfox@crestviewcountryclub.com
END:VEVENT
BEGIN:VEVENT
DTSTART;VALUE=DATE:20260711
DTEND;VALUE=DATE:20260713
DTSTAMP:20260425T222543
CREATED:20260402T192525Z
LAST-MODIFIED:20260402T192525Z
UID:10000091-1783728000-1783900799@ustakansasdistrict.com
SUMMARY:USTA L6 KS Crestview Counrty Club Jr Open II
DESCRIPTION:
URL:https://ustakansasdistrict.com/event/usta-l6-ks-crestview-counrty-club-jr-open-ii/
LOCATION:Crestview Country Club\, 1000 N 127th St E\, Wichita\, 67206-2824\, United States
CATEGORIES:Tournaments
ORGANIZER;CN="Regis Fox":MAILTO:rfox@crestviewcountryclub.com
END:VEVENT
BEGIN:VEVENT
DTSTART;VALUE=DATE:20261017
DTEND;VALUE=DATE:20261018
DTSTAMP:20260425T222543
CREATED:20260402T215020Z
LAST-MODIFIED:20260402T215020Z
UID:10000101-1792195200-1792281599@ustakansasdistrict.com
SUMMARY:USTA L7 KS Crestview Country Club Jr Intermediate III
DESCRIPTION:
URL:https://ustakansasdistrict.com/event/usta-l7-ks-crestview-country-club-jr-intermediate-iii/
LOCATION:Crestview Country Club\, 1000 N 127th St E\, Wichita\, 67206-2824\, United States
CATEGORIES:Tournaments
ORGANIZER;CN="Regis Fox":MAILTO:rfox@crestviewcountryclub.com
END:VEVENT
BEGIN:VEVENT
DTSTART;VALUE=DATE:20261120
DTEND;VALUE=DATE:20261123
DTSTAMP:20260425T222543
CREATED:20260402T215745Z
LAST-MODIFIED:20260402T215745Z
UID:10000105-1795132800-1795391999@ustakansasdistrict.com
SUMMARY:USTA L6 Crestview Country Club Jr Open III
DESCRIPTION:
URL:https://ustakansasdistrict.com/event/usta-l6-crestview-country-club-jr-open-iii/
LOCATION:Crestview Country Club\, 1000 N 127th St E\, Wichita\, 67206-2824\, United States
CATEGORIES:Tournaments
ORGANIZER;CN="Regis Fox":MAILTO:rfox@crestviewcountryclub.com
END:VEVENT
END:VCALENDAR