BEGIN:VCALENDAR
VERSION:2.0
PRODID:-//USTA Kansas District - ECPv6.15.18//NONSGML v1.0//EN
CALSCALE:GREGORIAN
METHOD:PUBLISH
X-ORIGINAL-URL:https://ustakansasdistrict.com
X-WR-CALDESC:Events for USTA Kansas District
REFRESH-INTERVAL;VALUE=DURATION:PT1H
X-Robots-Tag:noindex
X-PUBLISHED-TTL:PT1H
BEGIN:VTIMEZONE
TZID:UTC
BEGIN:STANDARD
TZOFFSETFROM:+0000
TZOFFSETTO:+0000
TZNAME:UTC
DTSTART:20240101T000000
END:STANDARD
END:VTIMEZONE
BEGIN:VEVENT
DTSTART;VALUE=DATE:20260321
DTEND;VALUE=DATE:20260322
DTSTAMP:20260426T000517
CREATED:20260402T173653Z
LAST-MODIFIED:20260402T173653Z
UID:10000076-1774051200-1774137599@ustakansasdistrict.com
SUMMARY:USTA L7 BG12-18
DESCRIPTION:
URL:https://ustakansasdistrict.com/event/usta-l7-bg12-18/
LOCATION:Crestview Country Club\, 1000 N 127th St E\, Wichita\, 67206-2824\, United States
CATEGORIES:Tournaments
ORGANIZER;CN="Regis Fox":MAILTO:rfox@crestviewcountryclub.com
END:VEVENT
BEGIN:VEVENT
DTSTART;VALUE=DATE:20260221
DTEND;VALUE=DATE:20260224
DTSTAMP:20260426T000517
CREATED:20260402T172957Z
LAST-MODIFIED:20260402T172957Z
UID:10000074-1771632000-1771891199@ustakansasdistrict.com
SUMMARY:USTA L6 Jr Open
DESCRIPTION:
URL:https://ustakansasdistrict.com/event/usta-l6-jr-open/
LOCATION:Crestview Country Club\, 1000 N 127th St E\, Wichita\, 67206-2824\, United States
CATEGORIES:Tournaments
ORGANIZER;CN="Regis Fox":MAILTO:rfox@crestviewcountryclub.com
END:VEVENT
BEGIN:VEVENT
DTSTART;VALUE=DATE:20251121
DTEND;VALUE=DATE:20251124
DTSTAMP:20260426T000517
CREATED:20251113T190204Z
LAST-MODIFIED:20251113T190204Z
UID:10000061-1763683200-1763942399@ustakansasdistrict.com
SUMMARY:USTA L6 BG12-18 Open
DESCRIPTION:
URL:https://ustakansasdistrict.com/event/usta-l6-bg12-18-open/
LOCATION:Crestview Country Club\, 1000 N 127th St E\, Wichita\, 67206-2824\, United States
CATEGORIES:Tournaments
ORGANIZER;CN="Regis Fox":MAILTO:rfox@crestviewcountryclub.com
END:VEVENT
END:VCALENDAR