BEGIN:VCALENDAR
VERSION:2.0
PRODID:-//USTA Kansas District - ECPv6.15.18//NONSGML v1.0//EN
CALSCALE:GREGORIAN
METHOD:PUBLISH
X-WR-CALNAME:USTA Kansas District
X-ORIGINAL-URL:https://ustakansasdistrict.com
X-WR-CALDESC:Events for USTA Kansas District
REFRESH-INTERVAL;VALUE=DURATION:PT1H
X-Robots-Tag:noindex
X-PUBLISHED-TTL:PT1H
BEGIN:VTIMEZONE
TZID:UTC
BEGIN:STANDARD
TZOFFSETFROM:+0000
TZOFFSETTO:+0000
TZNAME:UTC
DTSTART:20240101T000000
END:STANDARD
END:VTIMEZONE
BEGIN:VEVENT
DTSTART;VALUE=DATE:20260412
DTEND;VALUE=DATE:20260413
DTSTAMP:20260425T235513
CREATED:20260402T174131Z
LAST-MODIFIED:20260402T174131Z
UID:10000077-1775952000-1776038399@ustakansasdistrict.com
SUMMARY:USTA L7 BG12-18
DESCRIPTION:
URL:https://ustakansasdistrict.com/event/usta-l7-bg12-18-2/
LOCATION:Genesis West Central\, 854 N Socora St\, Wichita\, 67212\, United States
CATEGORIES:Tournaments
ORGANIZER;CN="Brittany Steven":MAILTO:woody@genesishealthclubs.com
END:VEVENT
BEGIN:VEVENT
DTSTART;VALUE=DATE:20260307
DTEND;VALUE=DATE:20260309
DTSTAMP:20260425T235513
CREATED:20260402T173343Z
LAST-MODIFIED:20260402T173343Z
UID:10000075-1772841600-1773014399@ustakansasdistrict.com
SUMMARY:USTA L6 BG12-18
DESCRIPTION:
URL:https://ustakansasdistrict.com/event/usta-l6-bg12-18-2/
LOCATION:Genesis West Central\, 854 N Socora St\, Wichita\, 67212\, United States
CATEGORIES:Tournaments
ORGANIZER;CN="Brittany Steven":MAILTO:woody@genesishealthclubs.com
END:VEVENT
BEGIN:VEVENT
DTSTART;VALUE=DATE:20260220
DTEND;VALUE=DATE:20260223
DTSTAMP:20260425T235513
CREATED:20260402T172732Z
LAST-MODIFIED:20260402T172732Z
UID:10000073-1771545600-1771804799@ustakansasdistrict.com
SUMMARY:USTA ROAD TO PARIS
DESCRIPTION:
URL:https://ustakansasdistrict.com/event/usta-road-to-paris/
LOCATION:Genesis Rock Road\, 1551 N Rock Rd\, Wichita\, 67206\, United States
CATEGORIES:Tournaments
ORGANIZER;CN="Zach Loomis":MAILTO:zachl620@hotmail.com
END:VEVENT
BEGIN:VEVENT
DTSTART;VALUE=DATE:20260214
DTEND;VALUE=DATE:20260216
DTSTAMP:20260425T235513
CREATED:20260402T172315Z
LAST-MODIFIED:20260402T172315Z
UID:10000072-1771027200-1771199999@ustakansasdistrict.com
SUMMARY:USTA L6 BG16
DESCRIPTION:
URL:https://ustakansasdistrict.com/event/usta-l6-bg16/
LOCATION:Genesis Salina\, 1830 S 9th St\, Salina\, 67401\, United States
CATEGORIES:Tournaments
ORGANIZER;CN="Franco Hernandez":MAILTO:franco.hernandez@genesishealthclubs.com
END:VEVENT
BEGIN:VEVENT
DTSTART;VALUE=DATE:20260207
DTEND;VALUE=DATE:20260209
DTSTAMP:20260425T235513
CREATED:20260402T165556Z
LAST-MODIFIED:20260402T165556Z
UID:10000071-1770422400-1770595199@ustakansasdistrict.com
SUMMARY:USTA L6 BG12-18
DESCRIPTION:
URL:https://ustakansasdistrict.com/event/usta-l6-bg12-18/
LOCATION:Genesis West Central\, 854 N Socora St\, Wichita\, 67212\, United States
CATEGORIES:Tournaments
ORGANIZER;CN="Brittany Steven":MAILTO:woody@genesishealthclubs.com
END:VEVENT
BEGIN:VEVENT
DTSTART;VALUE=DATE:20260125
DTEND;VALUE=DATE:20260126
DTSTAMP:20260425T235513
CREATED:20260402T164844Z
LAST-MODIFIED:20260402T164844Z
UID:10000070-1769299200-1769385599@ustakansasdistrict.com
SUMMARY:USTA L7 BG16-18
DESCRIPTION:
URL:https://ustakansasdistrict.com/event/usta-l7-bg16-18/
LOCATION:Genesis Salina\, 1830 S 9th St\, Salina\, 67401\, United States
CATEGORIES:Tournaments
ORGANIZER;CN="Franco Hernandez":MAILTO:franco.hernandez@genesishealthclubs.com
END:VEVENT
BEGIN:VEVENT
DTSTART;VALUE=DATE:20260118
DTEND;VALUE=DATE:20260119
DTSTAMP:20260425T235513
CREATED:20260402T164506Z
LAST-MODIFIED:20260402T165205Z
UID:10000069-1768694400-1768780799@ustakansasdistrict.com
SUMMARY:USTA L7 BG12-18
DESCRIPTION:
URL:https://ustakansasdistrict.com/event/usta-l7-ks-bg12-18/
LOCATION:Genesis West Central\, 854 N Socora St\, Wichita\, 67212\, United States
CATEGORIES:Tournaments
ORGANIZER;CN="Brittany Steven":MAILTO:woody@genesishealthclubs.com
END:VEVENT
BEGIN:VEVENT
DTSTART;VALUE=DATE:20260116
DTEND;VALUE=DATE:20260119
DTSTAMP:20260425T235513
CREATED:20260402T164051Z
LAST-MODIFIED:20260402T164124Z
UID:10000068-1768521600-1768780799@ustakansasdistrict.com
SUMMARY:USTA L6 BG12-18 Open
DESCRIPTION:
URL:https://ustakansasdistrict.com/event/usta-l6-bg12-18-open-3/
LOCATION:Genesis Rock Road\, 1551 N Rock Rd\, Wichita\, 67206\, United States
CATEGORIES:Tournaments
ORGANIZER;CN="Zach Loomis":MAILTO:zachl620@hotmail.com
END:VEVENT
BEGIN:VEVENT
DTSTART;VALUE=DATE:20260110
DTEND;VALUE=DATE:20260112
DTSTAMP:20260425T235513
CREATED:20260402T163740Z
LAST-MODIFIED:20260402T163740Z
UID:10000067-1768003200-1768175999@ustakansasdistrict.com
SUMMARY:USTA L6 BG12-18 Closed
DESCRIPTION:
URL:https://ustakansasdistrict.com/event/usta-l6-bg12-18-closed/
LOCATION:Genesis Salina\, 1830 S 9th St\, Salina\, 67401\, United States
CATEGORIES:Tournaments
ORGANIZER;CN="Franco Hernandez":MAILTO:franco.hernandez@genesishealthclubs.com
END:VEVENT
BEGIN:VEVENT
DTSTART;VALUE=DATE:20251220
DTEND;VALUE=DATE:20251222
DTSTAMP:20260425T235513
CREATED:20250626T173326Z
LAST-MODIFIED:20250626T173326Z
UID:10000058-1766188800-1766361599@ustakansasdistrict.com
SUMMARY:USTA L5 MV G16-18 Open
DESCRIPTION:
URL:https://ustakansasdistrict.com/event/usta-l5-mv-g16-18-open/
LOCATION:Overland Park Racquet Club\, 6800 W 91st St\, Overland Park\, KS\, 66212\, United States
CATEGORIES:Tournaments
END:VEVENT
BEGIN:VEVENT
DTSTART;VALUE=DATE:20251123
DTEND;VALUE=DATE:20251124
DTSTAMP:20260425T235513
CREATED:20251113T203843Z
LAST-MODIFIED:20251113T203843Z
UID:10000064-1763856000-1763942399@ustakansasdistrict.com
SUMMARY:USTA Orange/Green Ball Tournament
DESCRIPTION:
URL:https://ustakansasdistrict.com/event/usta-orange-green-ball-tournament/
LOCATION:Genesis Rock Road\, 1551 N Rock Rd\, Wichita\, 67206\, United States
CATEGORIES:Tournaments
ORGANIZER;CN="Zach Loomis":MAILTO:zachl620@hotmail.com
END:VEVENT
BEGIN:VEVENT
DTSTART;VALUE=DATE:20251122
DTEND;VALUE=DATE:20251124
DTSTAMP:20260425T235513
CREATED:20251113T203406Z
LAST-MODIFIED:20251113T203406Z
UID:10000063-1763769600-1763942399@ustakansasdistrict.com
SUMMARY:USTA Orange/Green Ball Tournament Open
DESCRIPTION:
URL:https://ustakansasdistrict.com/event/usta-orange-green-ball-tournament-open/
LOCATION:Genesis Salina\, 1830 S 9th St\, Salina\, 67401\, United States
ORGANIZER;CN="Franco Hernandez":MAILTO:franco.hernandez@genesishealthclubs.com
END:VEVENT
BEGIN:VEVENT
DTSTART;VALUE=DATE:20251122
DTEND;VALUE=DATE:20251124
DTSTAMP:20260425T235513
CREATED:20251113T203051Z
LAST-MODIFIED:20251113T203051Z
UID:10000062-1763769600-1763942399@ustakansasdistrict.com
SUMMARY:USTA L6 BG12-18 Open
DESCRIPTION:
URL:https://ustakansasdistrict.com/event/usta-l6-bg12-18-open-2/
LOCATION:Genesis Salina\, 1830 S 9th St\, Salina\, 67401\, United States
CATEGORIES:Leagues,Tournaments
ORGANIZER;CN="Franco Hernandez":MAILTO:franco.hernandez@genesishealthclubs.com
END:VEVENT
BEGIN:VEVENT
DTSTART;VALUE=DATE:20251115
DTEND;VALUE=DATE:20251118
DTSTAMP:20260425T235513
CREATED:20250626T173106Z
LAST-MODIFIED:20250626T173106Z
UID:10000057-1763164800-1763423999@ustakansasdistrict.com
SUMMARY:USTA L3 MV G18 #2
DESCRIPTION:
URL:https://ustakansasdistrict.com/event/usta-l3-mv-g18-2/
LOCATION:Overland Park Racquet Club\, 6800 W 91st St\, Overland Park\, KS\, 66212\, United States
CATEGORIES:Tournaments
END:VEVENT
BEGIN:VEVENT
DTSTART;VALUE=DATE:20251108
DTEND;VALUE=DATE:20251110
DTSTAMP:20260425T235513
CREATED:20250626T171846Z
LAST-MODIFIED:20250626T171953Z
UID:10000055-1762560000-1762732799@ustakansasdistrict.com
SUMMARY:USTA L5 MV B12 Open
DESCRIPTION:
URL:https://ustakansasdistrict.com/event/usta-l5-mv-b12-open/
LOCATION:Genesis Clayview – Kansas City\, 7990 N Farley Ave\, Kansas City\, MO\, 64158\, United States
CATEGORIES:Tournaments
ORGANIZER;CN="Michael Hall":MAILTO:michael.hall@genesishealthclubs.com
END:VEVENT
BEGIN:VEVENT
DTSTART;VALUE=DATE:20251101
DTEND;VALUE=DATE:20251103
DTSTAMP:20260425T235513
CREATED:20250626T171631Z
LAST-MODIFIED:20250626T171939Z
UID:10000054-1761955200-1762127999@ustakansasdistrict.com
SUMMARY:USTA L4 Team MV B18 #2 Closed
DESCRIPTION:
URL:https://ustakansasdistrict.com/event/usta-l4-team-mv-b18-2-closed/
LOCATION:Genesis Clayview – Kansas City\, 7990 N Farley Ave\, Kansas City\, MO\, 64158\, United States
CATEGORIES:Tournaments
ORGANIZER;CN="Michael Hall":MAILTO:michael.hall@genesishealthclubs.com
END:VEVENT
BEGIN:VEVENT
DTSTART;VALUE=DATE:20251025
DTEND;VALUE=DATE:20251028
DTSTAMP:20260425T235513
CREATED:20250626T170700Z
LAST-MODIFIED:20250626T170700Z
UID:10000052-1761350400-1761609599@ustakansasdistrict.com
SUMMARY:USTA L3 MV G14 #2 Closed
DESCRIPTION:
URL:https://ustakansasdistrict.com/event/usta-l3-mv-g14-2-closed/
LOCATION:Genesis Clayview – Kansas City\, 7990 N Farley Ave\, Kansas City\, MO\, 64158\, United States
CATEGORIES:Tournaments
ORGANIZER;CN="Michael Hall":MAILTO:michael.hall@genesishealthclubs.com
END:VEVENT
BEGIN:VEVENT
DTSTART;VALUE=DATE:20250830
DTEND;VALUE=DATE:20250902
DTSTAMP:20260425T235513
CREATED:20250626T165912Z
LAST-MODIFIED:20250626T165912Z
UID:10000050-1756512000-1756771199@ustakansasdistrict.com
SUMMARY:USTA MV L4 BG 12-14 #5
DESCRIPTION:
URL:https://ustakansasdistrict.com/event/usta-mv-l4-bg-12-14-5/
LOCATION:Kossover Tennis Center\, 2540 SW Gage Blvd\, Topeka\, KS\, 66614\, United States
CATEGORIES:Tournaments
ORGANIZER;CN="Ryan Hickman":MAILTO:rjhickman25@gmail.com
END:VEVENT
BEGIN:VEVENT
DTSTART;VALUE=DATE:20250829
DTEND;VALUE=DATE:20250901
DTSTAMP:20260425T235513
CREATED:20250626T173928Z
LAST-MODIFIED:20250626T173928Z
UID:10000059-1756425600-1756684799@ustakansasdistrict.com
SUMMARY:USTA L4 MV 18+ NTRP & Open Section Tournament
DESCRIPTION:
URL:https://ustakansasdistrict.com/event/usta-l4-mv-18-ntrp-open-section-tournament/
LOCATION:Overland Park Racquet Club\, 6800 W 91st St\, Overland Park\, KS\, 66212\, United States
CATEGORIES:Tournaments
ORGANIZER;CN="Lindell Frye":MAILTO:oprctournaments@gmail.com
END:VEVENT
BEGIN:VEVENT
DTSTART;VALUE=DATE:20250627
DTEND;VALUE=DATE:20250630
DTSTAMP:20260425T235513
CREATED:20250405T194042Z
LAST-MODIFIED:20250405T202032Z
UID:10000046-1750982400-1751241599@ustakansasdistrict.com
SUMMARY:USTA MV Adult L4 18+ NTRP & Open
DESCRIPTION:
URL:https://ustakansasdistrict.com/event/usta-mv-adult-l4-18-ntrp-open-2/
LOCATION:Cooper Tennis Complex\, 2331 E. Pythian\, Springfield\, MO\, 65802\, United States
CATEGORIES:Tournaments
ORGANIZER;CN="Mallory Weber":MAILTO:mallory.weber@springfieldmo.gov
END:VEVENT
BEGIN:VEVENT
DTSTART;VALUE=DATE:20250627
DTEND;VALUE=DATE:20250630
DTSTAMP:20260425T235513
CREATED:20250405T193900Z
LAST-MODIFIED:20250405T203047Z
UID:10000045-1750982400-1751241599@ustakansasdistrict.com
SUMMARY:USTA MV L4 Intersectional: Mid-America Mashup - Junior
DESCRIPTION:
URL:https://ustakansasdistrict.com/event/usta-mv-l4-intersectional-mid-america-mashup-junior/
LOCATION:LaFortune Tennis Center\, 5302 S Hudson Ave.\, Tulsa\, OK\, 74135\, United States
CATEGORIES:Tournaments
ORGANIZER;CN="Peter McCorkle":MAILTO:peter.mccorkle@gmail.com
END:VEVENT
BEGIN:VEVENT
DTSTART;VALUE=DATE:20250607
DTEND;VALUE=DATE:20250609
DTSTAMP:20260425T235513
CREATED:20250405T192806Z
LAST-MODIFIED:20250417T184204Z
UID:10000042-1749254400-1749427199@ustakansasdistrict.com
SUMMARY:USTA MV Outdoor L5 #5
DESCRIPTION:
URL:https://ustakansasdistrict.com/event/usta-mv-outdoor-l5-5-2/
LOCATION:Oklahoma City Tennis Center\, 3400 N Portland Ave.\, Oklahoma City\, OK\, 73112\, United States
CATEGORIES:Tournaments
END:VEVENT
BEGIN:VEVENT
DTSTART;VALUE=DATE:20250606
DTEND;VALUE=DATE:20250609
DTSTAMP:20260425T235513
CREATED:20250405T182935Z
LAST-MODIFIED:20250405T191958Z
UID:10000040-1749168000-1749427199@ustakansasdistrict.com
SUMMARY:USTA MV Adult L4 18+ NTRP & Open
DESCRIPTION:
URL:https://ustakansasdistrict.com/event/usta-mv-adult-l4-18-ntrp-open/
LOCATION:LaFortune Tennis Center\, 5302 S Hudson Ave.\, Tulsa\, OK\, 74135\, United States
CATEGORIES:Tournaments
END:VEVENT
BEGIN:VEVENT
DTSTART;VALUE=DATE:20250531
DTEND;VALUE=DATE:20250603
DTSTAMP:20260425T235513
CREATED:20250405T181647Z
LAST-MODIFIED:20250417T184654Z
UID:10000037-1748649600-1748908799@ustakansasdistrict.com
SUMMARY:USTA MV L4 #3 - Junior
DESCRIPTION:
URL:https://ustakansasdistrict.com/event/usta-mv-l4-3-junior/
LOCATION:Oklahoma City Tennis Center\, 3400 N Portland Ave.\, Oklahoma City\, OK\, 73112\, United States
CATEGORIES:Tournaments
ORGANIZER;CN="Canaan Lowe":MAILTO:cmlowe15@gmail.com
END:VEVENT
BEGIN:VEVENT
DTSTART;VALUE=DATE:20250531
DTEND;VALUE=DATE:20250601
DTSTAMP:20260425T235513
CREATED:20250405T202634Z
LAST-MODIFIED:20250405T202634Z
UID:10000049-1748649600-1748735999@ustakansasdistrict.com
SUMMARY:Orange/Green Ball Tournament
DESCRIPTION:
URL:https://ustakansasdistrict.com/event/orange-green-ball-tournament/
LOCATION:Genesis Rock Road\, 1551 N Rock Rd\, Wichita\, 67206\, United States
CATEGORIES:Tournaments
END:VEVENT
BEGIN:VEVENT
DTSTART;VALUE=DATE:20250524
DTEND;VALUE=DATE:20250527
DTSTAMP:20260425T235513
CREATED:20250405T180123Z
LAST-MODIFIED:20250417T185238Z
UID:10000034-1748044800-1748303999@ustakansasdistrict.com
SUMMARY:USTA MV Outdoor L5 #4 - Junior
DESCRIPTION:
URL:https://ustakansasdistrict.com/event/usta-mv-outdoor-l5-4-junior-2/
LOCATION:Ralph Wulz Riverside Tennis Center\, 551 Nims\, Wichita\, 67203\, United States
CATEGORIES:Tournaments
ORGANIZER;CN="Brent Fields":MAILTO:bfields@wichita.gov
END:VEVENT
BEGIN:VEVENT
DTSTART;VALUE=DATE:20250524
DTEND;VALUE=DATE:20250525
DTSTAMP:20260425T235513
CREATED:20250405T202539Z
LAST-MODIFIED:20250405T202539Z
UID:10000048-1748044800-1748131199@ustakansasdistrict.com
SUMMARY:Yellow Ball Tournament
DESCRIPTION:
URL:https://ustakansasdistrict.com/event/yellow-ball-tournament/
LOCATION:Genesis Rock Road\, 1551 N Rock Rd\, Wichita\, 67206\, United States
CATEGORIES:Tournaments
END:VEVENT
BEGIN:VEVENT
DTSTART;VALUE=DATE:20250523
DTEND;VALUE=DATE:20250526
DTSTAMP:20260425T235513
CREATED:20250405T175846Z
LAST-MODIFIED:20250417T185527Z
UID:10000033-1747958400-1748217599@ustakansasdistrict.com
SUMMARY:USTA MV Adult L4 40+ NTRP & Open
DESCRIPTION:
URL:https://ustakansasdistrict.com/event/usta-mv-adult-l4-40-ntrp-open/
LOCATION:Overland Park Racquet Club\, 6800 W 91st St\, Overland Park\, KS\, 66212\, United States
CATEGORIES:Tournaments
ORGANIZER;CN="Lindell Frye":MAILTO:oprctournaments@gmail.com
END:VEVENT
BEGIN:VEVENT
DTSTART;VALUE=DATE:20250523
DTEND;VALUE=DATE:20250524
DTSTAMP:20260425T235513
CREATED:20250405T202447Z
LAST-MODIFIED:20250405T202447Z
UID:10000047-1747958400-1748044799@ustakansasdistrict.com
SUMMARY:Minion Tennis Event
DESCRIPTION:
URL:https://ustakansasdistrict.com/event/minion-tennis-event/
LOCATION:Genesis Rock Road\, 1551 N Rock Rd\, Wichita\, 67206\, United States
CATEGORIES:Tournaments
END:VEVENT
BEGIN:VEVENT
DTSTART;VALUE=DATE:20250510
DTEND;VALUE=DATE:20250512
DTSTAMP:20260425T235513
CREATED:20250405T175510Z
LAST-MODIFIED:20250417T190004Z
UID:10000032-1746835200-1747007999@ustakansasdistrict.com
SUMMARY:USTA MV L4 Adult 5's\, O's & Open
DESCRIPTION:
URL:https://ustakansasdistrict.com/event/usta-mv-adult-5s-os-open/
LOCATION:St. Clair Tennis – O’Fallon\, Illinois\, 733 Hartman Ln\, O'Fallon\, IL\, 62269\, United States
CATEGORIES:Tournaments
ORGANIZER;CN="Nick Mueller":MAILTO:coachnjm@yahoo.com
END:VEVENT
END:VCALENDAR