BEGIN:VCALENDAR
VERSION:2.0
PRODID:-//USTA Kansas District - ECPv6.15.18//NONSGML v1.0//EN
CALSCALE:GREGORIAN
METHOD:PUBLISH
X-WR-CALNAME:USTA Kansas District
X-ORIGINAL-URL:https://ustakansasdistrict.com
X-WR-CALDESC:Events for USTA Kansas District
REFRESH-INTERVAL;VALUE=DURATION:PT1H
X-Robots-Tag:noindex
X-PUBLISHED-TTL:PT1H
BEGIN:VTIMEZONE
TZID:UTC
BEGIN:STANDARD
TZOFFSETFROM:+0000
TZOFFSETTO:+0000
TZNAME:UTC
DTSTART:20250101T000000
END:STANDARD
END:VTIMEZONE
BEGIN:VEVENT
DTSTART;VALUE=DATE:20260609
DTEND;VALUE=DATE:20260611
DTSTAMP:20260426T030736
CREATED:20260402T185838Z
LAST-MODIFIED:20260402T185838Z
UID:10000086-1780963200-1781135999@ustakansasdistrict.com
SUMMARY:USTA L6 McPherson Advantage Singles Only tournament
DESCRIPTION:
URL:https://ustakansasdistrict.com/event/usta-l6-mcpherson-advantage-singles-only-tournament/
LOCATION:McPherson High School\, 801 E 1ST ST\, MCPHERSON\, 67460\, United States
CATEGORIES:Tournaments
ORGANIZER;CN="Tyler Brown":MAILTO:tyler.brown@mcpherson.com
END:VEVENT
END:VCALENDAR