BEGIN:VCALENDAR
VERSION:2.0
PRODID:-//USTA Kansas District - ECPv6.15.18//NONSGML v1.0//EN
CALSCALE:GREGORIAN
METHOD:PUBLISH
X-WR-CALNAME:USTA Kansas District
X-ORIGINAL-URL:https://ustakansasdistrict.com
X-WR-CALDESC:Events for USTA Kansas District
REFRESH-INTERVAL;VALUE=DURATION:PT1H
X-Robots-Tag:noindex
X-PUBLISHED-TTL:PT1H
BEGIN:VTIMEZONE
TZID:UTC
BEGIN:STANDARD
TZOFFSETFROM:+0000
TZOFFSETTO:+0000
TZNAME:UTC
DTSTART:20250101T000000
END:STANDARD
END:VTIMEZONE
BEGIN:VEVENT
DTSTART;VALUE=DATE:20260723
DTEND;VALUE=DATE:20260724
DTSTAMP:20260426T024507
CREATED:20260402T212424Z
LAST-MODIFIED:20260402T212424Z
UID:10000095-1784764800-1784851199@ustakansasdistrict.com
SUMMARY:USTA L7 Collegiate Junior Open #2
DESCRIPTION:
URL:https://ustakansasdistrict.com/event/usta-l7-collegiate-junior-open-2/
LOCATION:Collegiate TO – Wichita\, 9115 E 13th St N\, Wichita\, 67206-1214\, United States
CATEGORIES:Tournaments
ORGANIZER;CN="Dave Hawley":MAILTO:dhawley@wcsks.com
END:VEVENT
END:VCALENDAR