BEGIN:VCALENDAR
VERSION:2.0
PRODID:-//USTA Kansas District - ECPv6.15.18//NONSGML v1.0//EN
CALSCALE:GREGORIAN
METHOD:PUBLISH
X-ORIGINAL-URL:https://ustakansasdistrict.com
X-WR-CALDESC:Events for USTA Kansas District
REFRESH-INTERVAL;VALUE=DURATION:PT1H
X-Robots-Tag:noindex
X-PUBLISHED-TTL:PT1H
BEGIN:VTIMEZONE
TZID:UTC
BEGIN:STANDARD
TZOFFSETFROM:+0000
TZOFFSETTO:+0000
TZNAME:UTC
DTSTART:20250101T000000
END:STANDARD
END:VTIMEZONE
BEGIN:VEVENT
DTSTART;VALUE=DATE:20260718
DTEND;VALUE=DATE:20260720
DTSTAMP:20260426T024557
CREATED:20260402T212239Z
LAST-MODIFIED:20260402T212239Z
UID:10000094-1784332800-1784505599@ustakansasdistrict.com
SUMMARY:USTA L6 Junior Summer Open 2
DESCRIPTION:
URL:https://ustakansasdistrict.com/event/usta-l6-junior-summer-open-2/
LOCATION:Genesis Rock Road\, 1551 N Rock Rd\, Wichita\, 67206\, United States
CATEGORIES:Tournaments
ORGANIZER;CN="Zach Loomis":MAILTO:zachl620@hotmail.com
END:VEVENT
END:VCALENDAR