BEGIN:VCALENDAR
VERSION:2.0
PRODID:-//USTA Kansas District - ECPv6.15.18//NONSGML v1.0//EN
CALSCALE:GREGORIAN
METHOD:PUBLISH
X-WR-CALNAME:USTA Kansas District
X-ORIGINAL-URL:https://ustakansasdistrict.com
X-WR-CALDESC:Events for USTA Kansas District
REFRESH-INTERVAL;VALUE=DURATION:PT1H
X-Robots-Tag:noindex
X-PUBLISHED-TTL:PT1H
BEGIN:VTIMEZONE
TZID:UTC
BEGIN:STANDARD
TZOFFSETFROM:+0000
TZOFFSETTO:+0000
TZNAME:UTC
DTSTART:20250101T000000
END:STANDARD
END:VTIMEZONE
BEGIN:VEVENT
DTSTART;VALUE=DATE:20260623
DTEND;VALUE=DATE:20260627
DTSTAMP:20260426T011817
CREATED:20260402T191050Z
LAST-MODIFIED:20260402T191050Z
UID:10000089-1782172800-1782518399@ustakansasdistrict.com
SUMMARY:L6 McPherson Advantage Doubles Only
DESCRIPTION:
URL:https://ustakansasdistrict.com/event/l6-mcpherson-advantage-doubles-only/
LOCATION:McPherson High School\, 801 E 1ST ST\, MCPHERSON\, 67460\, United States
CATEGORIES:Tournaments
ORGANIZER;CN="Ricardo Sanchez":MAILTO:ricardo.sanchez@mcpherson.com
END:VEVENT
END:VCALENDAR