BEGIN:VCALENDAR
VERSION:2.0
PRODID:-//USTA Kansas District - ECPv6.15.18//NONSGML v1.0//EN
CALSCALE:GREGORIAN
METHOD:PUBLISH
X-WR-CALNAME:USTA Kansas District
X-ORIGINAL-URL:https://ustakansasdistrict.com
X-WR-CALDESC:Events for USTA Kansas District
REFRESH-INTERVAL;VALUE=DURATION:PT1H
X-Robots-Tag:noindex
X-PUBLISHED-TTL:PT1H
BEGIN:VTIMEZONE
TZID:UTC
BEGIN:STANDARD
TZOFFSETFROM:+0000
TZOFFSETTO:+0000
TZNAME:UTC
DTSTART:20250101T000000
END:STANDARD
END:VTIMEZONE
BEGIN:VEVENT
DTSTART;VALUE=DATE:20260509
DTEND;VALUE=DATE:20260510
DTSTAMP:20260425T234324
CREATED:20260402T175756Z
LAST-MODIFIED:20260402T175756Z
UID:10000080-1778284800-1778371199@ustakansasdistrict.com
SUMMARY:USTA L7 BG12-18
DESCRIPTION:
URL:https://ustakansasdistrict.com/event/usta-l7-bg12-18-3/
LOCATION:Genesis Rock Road\, 1551 N Rock Rd\, Wichita\, 67206\, United States
ORGANIZER;CN="Zach Loomis":MAILTO:zachl620@hotmail.com
END:VEVENT
BEGIN:VEVENT
DTSTART;VALUE=DATE:20260523
DTEND;VALUE=DATE:20260524
DTSTAMP:20260425T234324
CREATED:20260402T180221Z
LAST-MODIFIED:20260402T180221Z
UID:10000081-1779494400-1779580799@ustakansasdistrict.com
SUMMARY:USTA L7 BG12-18
DESCRIPTION:
URL:https://ustakansasdistrict.com/event/usta-l7-bg12-18-4/
LOCATION:Crestview Country Club\, 1000 N 127th St E\, Wichita\, 67206-2824\, United States
CATEGORIES:Tournaments
ORGANIZER;CN="Regis Fox":MAILTO:rfox@crestviewcountryclub.com
END:VEVENT
BEGIN:VEVENT
DTSTART;VALUE=DATE:20260523
DTEND;VALUE=DATE:20260525
DTSTAMP:20260425T234324
CREATED:20260402T180435Z
LAST-MODIFIED:20260402T180435Z
UID:10000082-1779494400-1779667199@ustakansasdistrict.com
SUMMARY:USTA L6 BG12-18
DESCRIPTION:
URL:https://ustakansasdistrict.com/event/usta-l6-bg12-18-3/
LOCATION:Genesis West Central\, 854 N Socora St\, Wichita\, 67212\, United States
CATEGORIES:Tournaments
ORGANIZER;CN="Brittany Steven":MAILTO:woody@genesishealthclubs.com
END:VEVENT
BEGIN:VEVENT
DTSTART;VALUE=DATE:20260530
DTEND;VALUE=DATE:20260601
DTSTAMP:20260425T234324
CREATED:20260402T184823Z
LAST-MODIFIED:20260402T184823Z
UID:10000085-1780099200-1780271999@ustakansasdistrict.com
SUMMARY:USTA L6 BG12-18 Salina Summer Open #1
DESCRIPTION:
URL:https://ustakansasdistrict.com/event/usta-l6-bg12-18-salina-summer-open-1/
LOCATION:Genesis Salina\, 1830 S 9th St\, Salina\, 67401\, United States
CATEGORIES:Tournaments
ORGANIZER;CN="Franco Hernandez":MAILTO:franco.hernandez@genesishealthclubs.com
END:VEVENT
END:VCALENDAR